BEGIN:VCALENDAR
VERSION:2.0
PRODID:-//eventon.com NONSGML v1.0//EN
CALSCALE:GREGORIAN
METHOD:PUBLISH
BEGIN:VEVENT
UID:69e877a275106
DTSTAMP:20260422T072418Z
DTSTART:20250424T030000Z
DTEND:20250424T050000Z
LOCATION:Biblioteca Municipal de Pantoja Calle Don Ramón J Pueo Calvera
SUMMARY:Día del Libro en la Biblioteca
DESCRIPTION:Celebramos el día del Libro con Actividades en la Biblioteca m
 unicipal. Reto Lector y Concurso de Marca paginas\nhttps://pantoja.es/event
 s/dia-del-libro-en-la-biblioteca/
URL:https://pantoja.es/events/dia-del-libro-en-la-biblioteca/
END:VEVENT
END:VCALENDAR