BEGIN:VCALENDAR
VERSION:2.0
PRODID:-//eventon.com NONSGML v1.0//EN
CALSCALE:GREGORIAN
METHOD:PUBLISH
BEGIN:VEVENT
UID:69e6d980b7101
DTSTAMP:20260421T015720Z
DTSTART:20250319T030000Z
DTEND:20250319T050000Z
LOCATION:Biblioteca Municipal de Pantoja Calle Don Ramón J Pueo Calvera
SUMMARY:Taller Día del Padre
DESCRIPTION:\nhttps://pantoja.es/events/taller-dia-del-padre/
URL:https://pantoja.es/events/taller-dia-del-padre/
END:VEVENT
END:VCALENDAR